BEGIN:VCALENDAR
METHOD:PUBLISH
VERSION:2.0
PRODID:-//Eventilla iCal Syndication//NONSGML Liana//EN
BEGIN:VEVENT
UID:7M1N9@eventilla.com
DTSTAMP:20250401T053000Z
DTSTART:20250401T053000Z
DTEND:20250401T080000Z
SUMMARY:Rakentamisen ratkaisut - märkätilat\, täydennyskoulutus - webinaari
DESCRIPTION:WEBINAARI\nRakentamisen ratkaisut- märkätilat\, täydennyskoulutus\nTervetuloa rakentamisen asiantuntijoiden maksuttomaan täydennyskoulutukseen. Webinaarikoulutuksessa käydään läpi märkätilan rakenteisiin liittyvät ajankohtaiset ja uudet asiat valvonnan\, suunnittelun ja rakennuttamisen näkökulmasta. Koulutuksen jälkeen osallistujalla on viimeisin tieto märkätilarakenteisiin liittyvistä määräyksistä\, ohjeista ja tuotetiedosta. Käytännön teemana tässä koulutuksessa laatoitus ja saumaus.  \nAiheina: \n\n\nRakennusmääräysten ajankohtainen tilanne\, märkätilan tärkeimmät ohjeet ja rakentamisen osapuolten roolit \n\n\n\n\nMärkätilan rakenteet\, detaljit ja toteutus sekä tuoteuutuudet  \n\n\n\n\nMärkätilan laatoitus ja saumaus \n\n\n\n\nMallinnustyökalut märkätilan rakenteiden ja liitosten suunnitteluun Archicad-\, Revit- ja AutoCAD-sovelluksille \n\n\n\n\nDokumenttipankin käyttö ja aineiston hyödyntäminen omassa työssä \n\n\nKoulutus soveltuu asiantuntijoille\, jotka vastaavat märkätilojen suunnittelusta\, toteutuksesta ja valvonnasta sekä rakennushankkeen kosteudenhallinnasta tai rakennuttamisesta.  Koulutus hyväksytään märkätilaan liittyvien Rakentajan sertifikaattien täydennyskoulutukseksi\, esim. Märkätilatöiden valvoja tai opettaja. Tilaisuus on tarkoitettu Kiillon asiakkaille ja yhteistyökumppaneille. \n Ilmoittautumislinkki lähetetään erillisissä viesteissä. \nTervetuloa mukaan!\n  \nKiillon asiantuntijat koulutuksessa:Tanja Starck\, suunnittelijapalvelupäällikkö p.040 6812650 ja Marko Suominen\, aluepäällikkö p.0400 621301
LOCATION:Verkkokoulutus
URL:http://event.kiilto.com/rakentamisen-ratkaisut-markatilat-taydennyskoulutus-webinaari-1-4-2025
END:VEVENT
END:VCALENDAR
